BEGIN:VCALENDAR
VERSION:2.0
PRODID:-//Town of Mooresville - ECPv6.15.20//NONSGML v1.0//EN
CALSCALE:GREGORIAN
METHOD:PUBLISH
X-WR-CALNAME:Town of Mooresville
X-ORIGINAL-URL:https://www.mooresville.in.gov
X-WR-CALDESC:Events for Town of Mooresville
REFRESH-INTERVAL;VALUE=DURATION:PT1H
X-Robots-Tag:noindex
X-PUBLISHED-TTL:PT1H
BEGIN:VTIMEZONE
TZID:UTC
BEGIN:STANDARD
TZOFFSETFROM:+0000
TZOFFSETTO:+0000
TZNAME:UTC
DTSTART:20170101T000000
END:STANDARD
END:VTIMEZONE
BEGIN:VEVENT
DTSTART;TZID=UTC:20180904T183000
DTEND;TZID=UTC:20180904T193000
DTSTAMP:20260424T130208
CREATED:20180720T184133Z
LAST-MODIFIED:20180720T184133Z
UID:1166-1536085800-1536089400@www.mooresville.in.gov
SUMMARY:Town Council Meeting
DESCRIPTION:
URL:https://www.mooresville.in.gov/event/town-council-meeting-8/
LOCATION:Government Center\, 4 E. Harrison St\, Mooresville\, IN\, United States
CATEGORIES:Town Council
ORGANIZER;CN="Town Council":MAILTO:jsmith@mooresville.in.gov
END:VEVENT
END:VCALENDAR