BEGIN:VCALENDAR
VERSION:2.0
PRODID:-//Town of Mooresville - ECPv6.15.20//NONSGML v1.0//EN
CALSCALE:GREGORIAN
METHOD:PUBLISH
X-WR-CALNAME:Town of Mooresville
X-ORIGINAL-URL:https://www.mooresville.in.gov
X-WR-CALDESC:Events for Town of Mooresville
REFRESH-INTERVAL;VALUE=DURATION:PT1H
X-Robots-Tag:noindex
X-PUBLISHED-TTL:PT1H
BEGIN:VTIMEZONE
TZID:UTC
BEGIN:STANDARD
TZOFFSETFROM:+0000
TZOFFSETTO:+0000
TZNAME:UTC
DTSTART:20180101T000000
END:STANDARD
END:VTIMEZONE
BEGIN:VEVENT
DTSTART;VALUE=DATE:20190218
DTEND;VALUE=DATE:20190219
DTSTAMP:20260423T135252
CREATED:20190114T163531Z
LAST-MODIFIED:20190114T163531Z
UID:1644-1550448000-1550534399@www.mooresville.in.gov
SUMMARY:Government Center closed in observance of Presidents' Day
DESCRIPTION:
URL:https://www.mooresville.in.gov/event/government-center-closed-in-observance-of-presidents-day/
LOCATION:Government Center\, 4 E. Harrison St\, Mooresville\, IN\, United States
END:VEVENT
END:VCALENDAR