BEGIN:VCALENDAR
VERSION:2.0
PRODID:-//Town of Mooresville - ECPv6.15.20//NONSGML v1.0//EN
CALSCALE:GREGORIAN
METHOD:PUBLISH
X-WR-CALNAME:Town of Mooresville
X-ORIGINAL-URL:https://www.mooresville.in.gov
X-WR-CALDESC:Events for Town of Mooresville
REFRESH-INTERVAL;VALUE=DURATION:PT1H
X-Robots-Tag:noindex
X-PUBLISHED-TTL:PT1H
BEGIN:VTIMEZONE
TZID:UTC
BEGIN:STANDARD
TZOFFSETFROM:+0000
TZOFFSETTO:+0000
TZNAME:UTC
DTSTART:20200101T000000
END:STANDARD
END:VTIMEZONE
BEGIN:VEVENT
DTSTART;TZID=UTC:20210716T190000
DTEND;TZID=UTC:20210716T200000
DTSTAMP:20260424T061753
CREATED:20210315T174401Z
LAST-MODIFIED:20210716T154558Z
UID:2965-1626462000-1626465600@www.mooresville.in.gov
SUMMARY:POSTPONED - Mooresville Summer Concert Series - BIGG Country
DESCRIPTION:
URL:https://www.mooresville.in.gov/event/mooresville-summer-concert-series-bigg-country/
LOCATION:Pioneer Park\, 1101 N Indianapolis Rd\, mooresville\, IN\, 46158\, United States
END:VEVENT
END:VCALENDAR