BEGIN:VCALENDAR
VERSION:2.0
PRODID:-//Town of Mooresville - ECPv6.15.20//NONSGML v1.0//EN
CALSCALE:GREGORIAN
METHOD:PUBLISH
X-WR-CALNAME:Town of Mooresville
X-ORIGINAL-URL:https://www.mooresville.in.gov
X-WR-CALDESC:Events for Town of Mooresville
REFRESH-INTERVAL;VALUE=DURATION:PT1H
X-Robots-Tag:noindex
X-PUBLISHED-TTL:PT1H
BEGIN:VTIMEZONE
TZID:UTC
BEGIN:STANDARD
TZOFFSETFROM:+0000
TZOFFSETTO:+0000
TZNAME:UTC
DTSTART:20200101T000000
END:STANDARD
END:VTIMEZONE
BEGIN:VEVENT
DTSTART;TZID=UTC:20210817T183000
DTEND;TZID=UTC:20210817T190000
DTSTAMP:20260421T205945
CREATED:20210315T183310Z
LAST-MODIFIED:20210315T183310Z
UID:2980-1629225000-1629226800@www.mooresville.in.gov
SUMMARY:Town Council
DESCRIPTION:
URL:https://www.mooresville.in.gov/event/town-council-22/
LOCATION:IN
END:VEVENT
END:VCALENDAR