BEGIN:VCALENDAR
VERSION:2.0
PRODID:-//Town of Mooresville - ECPv6.15.20//NONSGML v1.0//EN
CALSCALE:GREGORIAN
METHOD:PUBLISH
X-WR-CALNAME:Town of Mooresville
X-ORIGINAL-URL:https://www.mooresville.in.gov
X-WR-CALDESC:Events for Town of Mooresville
REFRESH-INTERVAL;VALUE=DURATION:PT1H
X-Robots-Tag:noindex
X-PUBLISHED-TTL:PT1H
BEGIN:VTIMEZONE
TZID:UTC
BEGIN:STANDARD
TZOFFSETFROM:+0000
TZOFFSETTO:+0000
TZNAME:UTC
DTSTART:20230101T000000
END:STANDARD
END:VTIMEZONE
BEGIN:VEVENT
DTSTART;TZID=UTC:20240620T180000
DTEND;TZID=UTC:20240620T180000
DTSTAMP:20260424T143532
CREATED:20240515T184220Z
LAST-MODIFIED:20240515T184220Z
UID:4277-1718906400-1718906400@www.mooresville.in.gov
SUMMARY:BZA
DESCRIPTION:
URL:https://www.mooresville.in.gov/event/bza-7/
LOCATION:Government Center\, 4 E. Harrison St\, Mooresville\, IN\, United States
END:VEVENT
BEGIN:VEVENT
DTSTART;TZID=UTC:20240620T180000
DTEND;TZID=UTC:20240620T180000
DTSTAMP:20260424T143532
CREATED:20240515T184548Z
LAST-MODIFIED:20240515T184548Z
UID:4280-1718906400-1718906400@www.mooresville.in.gov
SUMMARY:Police Commission
DESCRIPTION:
URL:https://www.mooresville.in.gov/event/police-commission-11/
LOCATION:Police Station
END:VEVENT
BEGIN:VEVENT
DTSTART;TZID=UTC:20240620T183000
DTEND;TZID=UTC:20240620T183000
DTSTAMP:20260424T143533
CREATED:20240515T184306Z
LAST-MODIFIED:20240515T184306Z
UID:4278-1718908200-1718908200@www.mooresville.in.gov
SUMMARY:Plan Commission
DESCRIPTION:
URL:https://www.mooresville.in.gov/event/plan-commission-15/
LOCATION:Government Center\, 4 E. Harrison St\, Mooresville\, IN\, United States
END:VEVENT
END:VCALENDAR