BEGIN:VCALENDAR
VERSION:2.0
PRODID:-//Town of Mooresville - ECPv6.15.20//NONSGML v1.0//EN
CALSCALE:GREGORIAN
METHOD:PUBLISH
X-WR-CALNAME:Town of Mooresville
X-ORIGINAL-URL:https://www.mooresville.in.gov
X-WR-CALDESC:Events for Town of Mooresville
REFRESH-INTERVAL;VALUE=DURATION:PT1H
X-Robots-Tag:noindex
X-PUBLISHED-TTL:PT1H
BEGIN:VTIMEZONE
TZID:UTC
BEGIN:STANDARD
TZOFFSETFROM:+0000
TZOFFSETTO:+0000
TZNAME:UTC
DTSTART:20240101T000000
END:STANDARD
END:VTIMEZONE
BEGIN:VEVENT
DTSTART;TZID=UTC:20250401T183000
DTEND;TZID=UTC:20250401T183000
DTSTAMP:20260425T141712
CREATED:20250331T203923Z
LAST-MODIFIED:20250923T175258Z
UID:4644-1743532200-1743532200@www.mooresville.in.gov
SUMMARY:Town Council Meeting & Budget Public Hearing
DESCRIPTION:
URL:https://www.mooresville.in.gov/event/town-council-89/2025-04-01/
LOCATION:Government Center\, 4 E. Harrison St\, Mooresville\, IN\, United States
CATEGORIES:Town Council
END:VEVENT
END:VCALENDAR