BEGIN:VCALENDAR
VERSION:2.0
PRODID:-//Town of Mooresville - ECPv6.15.20//NONSGML v1.0//EN
CALSCALE:GREGORIAN
METHOD:PUBLISH
X-WR-CALNAME:Town of Mooresville
X-ORIGINAL-URL:https://www.mooresville.in.gov
X-WR-CALDESC:Events for Town of Mooresville
REFRESH-INTERVAL;VALUE=DURATION:PT1H
X-Robots-Tag:noindex
X-PUBLISHED-TTL:PT1H
BEGIN:VTIMEZONE
TZID:UTC
BEGIN:STANDARD
TZOFFSETFROM:+0000
TZOFFSETTO:+0000
TZNAME:UTC
DTSTART:20240101T000000
END:STANDARD
END:VTIMEZONE
BEGIN:VEVENT
DTSTART;TZID=UTC:20250413T000000
DTEND;TZID=UTC:20250419T233000
DTSTAMP:20260424T005659
CREATED:20250321T155311Z
LAST-MODIFIED:20250321T155311Z
UID:4634-1744502400-1745105400@www.mooresville.in.gov
SUMMARY:National Public Safety Telecommunications Week April 13th to 19th
DESCRIPTION:
URL:https://www.mooresville.in.gov/event/national-public-safety-telecommunications-week-april-13th-to-19th/
LOCATION:IN
END:VEVENT
BEGIN:VEVENT
DTSTART;TZID=UTC:20250415T183000
DTEND;TZID=UTC:20250415T183000
DTSTAMP:20260424T005659
CREATED:20250402T183015Z
LAST-MODIFIED:20250923T175401Z
UID:4660-1744741800-1744741800@www.mooresville.in.gov
SUMMARY:Town Council Meeting & Budget Public Hearing
DESCRIPTION:
URL:https://www.mooresville.in.gov/event/town-council-90/2025-04-15/
LOCATION:Government Center\, 4 E. Harrison St\, Mooresville\, IN\, United States
CATEGORIES:Town Council
END:VEVENT
END:VCALENDAR