BEGIN:VCALENDAR
VERSION:2.0
PRODID:-//Town of Mooresville - ECPv6.15.20//NONSGML v1.0//EN
CALSCALE:GREGORIAN
METHOD:PUBLISH
X-WR-CALNAME:Town of Mooresville
X-ORIGINAL-URL:https://www.mooresville.in.gov
X-WR-CALDESC:Events for Town of Mooresville
REFRESH-INTERVAL;VALUE=DURATION:PT1H
X-Robots-Tag:noindex
X-PUBLISHED-TTL:PT1H
BEGIN:VTIMEZONE
TZID:UTC
BEGIN:STANDARD
TZOFFSETFROM:+0000
TZOFFSETTO:+0000
TZNAME:UTC
DTSTART:20250101T000000
END:STANDARD
END:VTIMEZONE
BEGIN:VEVENT
DTSTART;TZID=UTC:20260611T180000
DTEND;TZID=UTC:20260611T180000
DTSTAMP:20260423T200953
CREATED:20251230T225018Z
LAST-MODIFIED:20251230T225446Z
UID:4886-1781200800-1781200800@www.mooresville.in.gov
SUMMARY:Board of Zoning Appeals Meeting
DESCRIPTION:
URL:https://www.mooresville.in.gov/event/board-of-zoning-appeals-51/2026-06-11/
LOCATION:Government Center\, 4 E. Harrison St\, Mooresville\, IN\, United States
CATEGORIES:Board of Zoning Appeals
END:VEVENT
BEGIN:VEVENT
DTSTART;TZID=UTC:20260611T183000
DTEND;TZID=UTC:20260611T183000
DTSTAMP:20260423T200953
CREATED:20251230T225226Z
LAST-MODIFIED:20251230T225226Z
UID:4897-1781202600-1781202600@www.mooresville.in.gov
SUMMARY:Plan Commission Meeting
DESCRIPTION:
URL:https://www.mooresville.in.gov/event/plan-commission-meeting-6/2026-06-11/
LOCATION:Government Center\, 4 E. Harrison St\, Mooresville\, IN\, United States
CATEGORIES:Planning Commission
END:VEVENT
END:VCALENDAR